BEGIN:VCALENDAR
VERSION:2.0
PRODID:-//Parc de la Gorge de Coaticook - ECPv6.15.17.1//NONSGML v1.0//EN
CALSCALE:GREGORIAN
METHOD:PUBLISH
X-WR-CALNAME:Parc de la Gorge de Coaticook
X-ORIGINAL-URL:https://gorgedecoaticook.qc.ca
X-WR-CALDESC:Événements pour Parc de la Gorge de Coaticook
REFRESH-INTERVAL;VALUE=DURATION:PT1H
X-Robots-Tag:noindex
X-PUBLISHED-TTL:PT1H
BEGIN:VTIMEZONE
TZID:America/Toronto
BEGIN:DAYLIGHT
TZOFFSETFROM:-0500
TZOFFSETTO:-0400
TZNAME:EDT
DTSTART:20250309T070000
END:DAYLIGHT
BEGIN:STANDARD
TZOFFSETFROM:-0400
TZOFFSETTO:-0500
TZNAME:EST
DTSTART:20251102T060000
END:STANDARD
BEGIN:DAYLIGHT
TZOFFSETFROM:-0500
TZOFFSETTO:-0400
TZNAME:EDT
DTSTART:20260308T070000
END:DAYLIGHT
BEGIN:STANDARD
TZOFFSETFROM:-0400
TZOFFSETTO:-0500
TZNAME:EST
DTSTART:20261101T060000
END:STANDARD
BEGIN:DAYLIGHT
TZOFFSETFROM:-0500
TZOFFSETTO:-0400
TZNAME:EDT
DTSTART:20270314T070000
END:DAYLIGHT
BEGIN:STANDARD
TZOFFSETFROM:-0400
TZOFFSETTO:-0500
TZNAME:EST
DTSTART:20271107T060000
END:STANDARD
END:VTIMEZONE
BEGIN:VEVENT
DTSTART;TZID=America/Toronto:20260509T090000
DTEND;TZID=America/Toronto:20260509T140000
DTSTAMP:20260419T140316
CREATED:20260416T183011Z
LAST-MODIFIED:20260416T183030Z
UID:15305-1778317200-1778335200@gorgedecoaticook.qc.ca
SUMMARY:Journée VIP Acoatica au Parc Découverte Nature – Résidents de la MRC de Coaticook
DESCRIPTION:Journée VIP Acoatica – Résidents de la MRC de Coaticook\n\n📅 Samedi 9 mai 2026 | Dès 9 h\n📍 Parc Découverte Nature\, Coaticook \nLe Parc Découverte Nature invite les résidents de la MRC de Coaticook à vivre une Journée VIP Acoatica\, spécialement pensée pour la communauté.\n➡️ L’entrée au parc est gratuite pour les résidents de la MRC\n(Les poissons ne sont pas inclus.) \nUne expérience immersive en nature\nVotre accès gratuit vous permet de profiter pleinement des installations et des activités du parc : \n\nAcoatica\, le jeu interactive intérieure et extérieure où la technologie rencontre la nature\nPêche en étangs (poissons payables sur place – équipement fourni)\nZone gourmande pour faire cuire vos truites fraîchement pêchées sur nos barbecues\nApportez votre pique-nique pour accompagner votre repas ou procurez-vous des produits locaux pour un festin bien d’ici\nEspaces naturels et aire de pique-nique\n\nCette Journée VIP s’inscrit dans la volonté du Parc Découverte Nature de redonner à la communauté et de faire découvrir Acoatica dans un cadre ludique\, accessible et rassembleur. \nInformations importantes\n\nArrivée dès 9 h\nDernière entrée : 14 h\nPreuve de résidence obligatoire sur place (ex. permis de conduire)\nActivité familiale\, ouverte à tous\n\nAfin d’assurer une expérience agréable pour tous\, la réservation en ligne est requise. \n👉 Comment réserver\n\nCliquez sur la billetterie.\nSélectionnez le billet « 9 MAI 2026 | Journée gratuite – Résidents de la MRC de Coaticook ».\nChoisissez votre heure de visite et complétez vos informations.\nVos billets vous seront envoyés par courriel.\n\n\n  \n 
URL:https://gorgedecoaticook.qc.ca/evenement/journee-vip-acoatica-au-parc-decouverte-nature-residents-de-la-mrc-de-coaticook/
LOCATION:Parc Découverte Nature\, 2471\, chemin de Baldwin Mills-Barnston\, Coaticook\, QC\, J1A 2S4\, Canada
ATTACH;FMTTYPE=image/jpeg:https://gorgedecoaticook.qc.ca/wp-content/uploads/2026/04/PDN-pub-Web-journee-VIP-Acoatica-avril26_calendrier-scaled.jpg
ORGANIZER;CN="Parc D%C3%A9couverte Nature":MAILTO:info@decouvertenature.qc.ca
GEO:45.0475581;-71.9093103
X-APPLE-STRUCTURED-LOCATION;VALUE=URI;X-ADDRESS=Parc Découverte Nature 2471 chemin de Baldwin Mills-Barnston Coaticook QC J1A 2S4 Canada;X-APPLE-RADIUS=500;X-TITLE=2471\, chemin de Baldwin Mills-Barnston:geo:-71.9093103,45.0475581
END:VEVENT
END:VCALENDAR